BEGIN:VCALENDAR
VERSION:2.0
PRODID:-//jEvents 2.0 for Joomla//EN
CALSCALE:GREGORIAN
METHOD:PUBLISH
BEGIN:VTIMEZONE
TZID:America/Detroit
BEGIN:STANDARD
DTSTART:20231106T073000
RDATE:20240310T030000
TZOFFSETFROM:-0400
TZOFFSETTO:-0500
TZNAME:America/Detroit EST
END:STANDARD
BEGIN:STANDARD
DTSTART:20241103T010000
RDATE:20250309T030000
TZOFFSETFROM:-0400
TZOFFSETTO:-0500
TZNAME:America/Detroit EST
END:STANDARD
BEGIN:STANDARD
DTSTART:20251102T010000
RDATE:20260308T030000
TZOFFSETFROM:-0400
TZOFFSETTO:-0500
TZNAME:America/Detroit EST
END:STANDARD
BEGIN:DAYLIGHT
DTSTART:20240310T030000
RDATE:20241103T010000
TZOFFSETFROM:-0500
TZOFFSETTO:-0400
TZNAME:America/Detroit EDT
END:DAYLIGHT
BEGIN:DAYLIGHT
DTSTART:20250309T030000
RDATE:20251102T010000
TZOFFSETFROM:-0500
TZOFFSETTO:-0400
TZNAME:America/Detroit EDT
END:DAYLIGHT
END:VTIMEZONE
BEGIN:VEVENT
UID:7a0p32o69uuuj38lr7ro9m606c@google.com
CATEGORIES:BMS
SUMMARY:Picture Re-Take Day
DESCRIPTION;ENCODING=QUOTED-PRINTABLE:
DTSTAMP:20260424T133939Z
DTSTART;TZID=America/Detroit:20241106T073000
DTEND;TZID=America/Detroit:20241106T110000
SEQUENCE:0
TRANSP:OPAQUE
END:VEVENT
END:VCALENDAR